BEGIN:VCALENDAR
VERSION:2.0
PRODID:-//Contratero//ES
CALSCALE:GREGORIAN
METHOD:PUBLISH
BEGIN:VEVENT
UID:CONT-023/2025 (12760/2025)@contratero.es
DTSTAMP:20260421T210945Z
DTSTART:20250710T235959
DTEND:20250711T005959
SUMMARY:Cierre: Contrato de suministros consistente en la adquisic
DESCRIPTION:Contrato de suministros consistente en la adquisición de licencias de Autocad para el Ayuntamiento de Gandia\\n\\nOrganismo: Concejalía Delegada de Contratación del Ayuntamiento de Gandía\\n\\nVer en Contratero: https://contratero.es/contracts/CONT-023/2025 (12760/2025)
URL:https://contratero.es/contracts/CONT-023/2025 (12760/2025)
STATUS:CONFIRMED
BEGIN:VALARM
TRIGGER:-P1D
ACTION:DISPLAY
DESCRIPTION:Recordatorio: Contrato de suministros consis
END:VALARM
END:VEVENT
END:VCALENDAR